BEGIN:VCALENDAR
VERSION:2.0
PRODID:-//Liam Elion - ECPv6.15.14//NONSGML v1.0//EN
CALSCALE:GREGORIAN
METHOD:PUBLISH
X-WR-CALNAME:Liam Elion
X-ORIGINAL-URL:https://liamelion.com
X-WR-CALDESC:Events for Liam Elion
REFRESH-INTERVAL;VALUE=DURATION:PT1H
X-Robots-Tag:noindex
X-PUBLISHED-TTL:PT1H
BEGIN:VTIMEZONE
TZID:Europe/Stockholm
BEGIN:DAYLIGHT
TZOFFSETFROM:+0100
TZOFFSETTO:+0200
TZNAME:CEST
DTSTART:20230326T010000
END:DAYLIGHT
BEGIN:STANDARD
TZOFFSETFROM:+0200
TZOFFSETTO:+0100
TZNAME:CET
DTSTART:20231029T010000
END:STANDARD
BEGIN:DAYLIGHT
TZOFFSETFROM:+0100
TZOFFSETTO:+0200
TZNAME:CEST
DTSTART:20240331T010000
END:DAYLIGHT
BEGIN:STANDARD
TZOFFSETFROM:+0200
TZOFFSETTO:+0100
TZNAME:CET
DTSTART:20241027T010000
END:STANDARD
BEGIN:DAYLIGHT
TZOFFSETFROM:+0100
TZOFFSETTO:+0200
TZNAME:CEST
DTSTART:20250330T010000
END:DAYLIGHT
BEGIN:STANDARD
TZOFFSETFROM:+0200
TZOFFSETTO:+0100
TZNAME:CET
DTSTART:20251026T010000
END:STANDARD
END:VTIMEZONE
BEGIN:VEVENT
DTSTART;TZID=Europe/Stockholm:20240715T160000
DTEND;TZID=Europe/Stockholm:20240715T180000
DTSTAMP:20260423T034614
CREATED:20240706T134225Z
LAST-MODIFIED:20240707T120444Z
UID:31-1721059200-1721066400@liamelion.com
SUMMARY:"Berlin Brain Flippers" - Klostertorv scene Aarhus
DESCRIPTION:Yonatan Hes (saxophone)\, Jascha Briand (guitar)\, Liam Elion (bass)\, Steven Moser (drums)\nThe inspiration behind Berlin Brain Flipper’s compositions comes from the modern jazz scene in New York and Berlin\, and they explore the rhythmic world of uneven beats. The quartet’s exploration of musical landscapes reflects the confluence of different cultural backgrounds within the group. Yo Hes\, was born in 2001\, and has pursued his music education at the Berklee College of Music in Boston\, subsequently he has studied at the Royal Conservatoire in Paris. Notably\, he won the Soloist prize at the Dinant Jazz Festival competition in 2018 (Belgium).
URL:https://liamelion.com/event/berlin-brain-flippers-klostertorv-scene/
LOCATION:Klostertorv\, Klostertorv\, Arhus\, 8000\, Denmark
CATEGORIES:Aarhus Jazz Festival 2024
END:VEVENT
END:VCALENDAR